BEGIN:VCALENDAR
VERSION:2.0
PRODID:-//CLIC - ECPv6.15.20//NONSGML v1.0//EN
CALSCALE:GREGORIAN
METHOD:PUBLISH
X-ORIGINAL-URL:https://clicstudyinchina.com/fr/
X-WR-CALDESC:Évènements pour CLIC
REFRESH-INTERVAL;VALUE=DURATION:PT1H
X-Robots-Tag:noindex
X-PUBLISHED-TTL:PT1H
BEGIN:VTIMEZONE
TZID:UTC
BEGIN:STANDARD
TZOFFSETFROM:+0000
TZOFFSETTO:+0000
TZNAME:UTC
DTSTART:20250101T000000
END:STANDARD
END:VTIMEZONE
BEGIN:VEVENT
DTSTART;VALUE=DATE:20260901
DTEND;VALUE=DATE:20270116
DTSTAMP:20260423T052105
CREATED:20190207T225931Z
LAST-MODIFIED:20190207T230304Z
UID:14811-1788220800-1800057599@clicstudyinchina.com
SUMMARY:Université McGill Programmes d’échange
DESCRIPTION:CLIC offre aussi du soutien en vue de programmes d’échange pour la session d’automne\, la session d’hiver ou pour toute l’année. Les partenaires avec lesquels l’Université McGill fait des échanges sont indiqués ci-dessous. Pour plus d’informations\, contactez Kalyna Kruczowyj à kalyna.kruczowyj@mcgill.ca. \n\nUniversité Fudan\nUniversité de Pékin\nUniversité Jiao Tong de Shanghai\nUniversité de Tongji\nUniversité de Tsinghua\nUniversité de Xiamen\nUniversité du Zhejiang
URL:https://clicstudyinchina.com/fr/programme/universite-mcgill-programmes-dechange/
CATEGORIES:Université McGill
END:VEVENT
END:VCALENDAR