BEGIN:VCALENDAR
VERSION:2.0
PRODID:-//CLIC - ECPv6.15.20//NONSGML v1.0//EN
CALSCALE:GREGORIAN
METHOD:PUBLISH
X-ORIGINAL-URL:https://clicstudyinchina.com
X-WR-CALDESC:Events for CLIC
REFRESH-INTERVAL;VALUE=DURATION:PT1H
X-Robots-Tag:noindex
X-PUBLISHED-TTL:PT1H
BEGIN:VTIMEZONE
TZID:UTC
BEGIN:STANDARD
TZOFFSETFROM:+0000
TZOFFSETTO:+0000
TZNAME:UTC
DTSTART:20250101T000000
END:STANDARD
END:VTIMEZONE
BEGIN:VEVENT
DTSTART;VALUE=DATE:20260901
DTEND;VALUE=DATE:20270116
DTSTAMP:20260422T160255
CREATED:20260401T205048Z
LAST-MODIFIED:20260401T205048Z
UID:15822-1788220800-1800057599@clicstudyinchina.com
SUMMARY:Simon Fraser University Exchange Programs
DESCRIPTION:CLIC also includes support for Fall\, Winter\, and Full Year exchange programs. See below exchange partners for Simon Fraser University. For more information\, contact Nina Lee via international_exchange@sfu.ca. Programs are subject to change due to immigration limitations. \n\nFudan University – School of Management (Business)\nRenmin University of China\nShanghai Jiao Tong University\nTongji University – School of Economics and Management (Business)\nTsinghua University\nZhejiang University
URL:https://clicstudyinchina.com/program/university-of-alberta-exchange-partners-2-2/
CATEGORIES:Simon Fraser University
END:VEVENT
END:VCALENDAR