BEGIN:VCALENDAR
VERSION:2.0
PRODID:-//CLIC - ECPv6.15.20//NONSGML v1.0//EN
CALSCALE:GREGORIAN
METHOD:PUBLISH
X-ORIGINAL-URL:https://clicstudyinchina.com
X-WR-CALDESC:Events for CLIC
REFRESH-INTERVAL;VALUE=DURATION:PT1H
X-Robots-Tag:noindex
X-PUBLISHED-TTL:PT1H
BEGIN:VTIMEZONE
TZID:UTC
BEGIN:STANDARD
TZOFFSETFROM:+0000
TZOFFSETTO:+0000
TZNAME:UTC
DTSTART:20250101T000000
END:STANDARD
END:VTIMEZONE
BEGIN:VEVENT
DTSTART;VALUE=DATE:20260515
DTEND;VALUE=DATE:20260816
DTSTAMP:20260423T115454
CREATED:20181025T204918Z
LAST-MODIFIED:20251103T230828Z
UID:14506-1778803200-1786838399@clicstudyinchina.com
SUMMARY:University of Alberta Research Experiences
DESCRIPTION:NOTE: Current dates are place holders. Each student will have their own program start and end dates based upon the availablity of their research internship host(s). \nCLIC also includes support for research experiences. See below research experiences for the University of Alberta. For more information\, contact goabroad@ualberta.ca. \n\nShandong University Medical Research Internship\n\nProgram Specific Eligibility Requirements\nEligibility depends on the project you are apply to. Contact goabroad@ualberta.ca to find out more. \nSee the How to Apply page for general CLIC eligibility criteria. \nApplication Procedure\nApply to the University of Alberta. \nComplete an application with the China Scholarship Council. \nComplete an online registration form with CLIC: https://clic-horizons.symplicity.com. \nComplete an application with the Chinese host university. \nApplication Deadlines\nInternal nomination and travel grant application deadlines vary for Canadian universities. Check with your home university CLIC contact. \nApplication with the China Scholarship Council application and CLIC online registration. Check our How to Apply webpage.
URL:https://clicstudyinchina.com/program/university-of-alberta-research-internships/
CATEGORIES:University of Alberta
END:VEVENT
END:VCALENDAR