BEGIN:VCALENDAR
VERSION:2.0
PRODID:-//CLIC - ECPv6.15.20//NONSGML v1.0//EN
CALSCALE:GREGORIAN
METHOD:PUBLISH
X-WR-CALNAME:CLIC
X-ORIGINAL-URL:https://clicstudyinchina.com
X-WR-CALDESC:Events for CLIC
REFRESH-INTERVAL;VALUE=DURATION:PT1H
X-Robots-Tag:noindex
X-PUBLISHED-TTL:PT1H
BEGIN:VTIMEZONE
TZID:UTC
BEGIN:STANDARD
TZOFFSETFROM:+0000
TZOFFSETTO:+0000
TZNAME:UTC
DTSTART:20250101T000000
END:STANDARD
END:VTIMEZONE
BEGIN:VEVENT
DTSTART;VALUE=DATE:20260901
DTEND;VALUE=DATE:20270116
DTSTAMP:20260422T120615
CREATED:20260401T204247Z
LAST-MODIFIED:20260401T204452Z
UID:15820-1788220800-1800057599@clicstudyinchina.com
SUMMARY:University of Victoria Exchange Programs
DESCRIPTION:CLIC also includes support for Fall\, Winter\, and Full Year exchange programs. See below exchange partners for the University of Victoria. For more information\, contact Ruth Wax via ruthwax@uvic.ca. Programs are subject to change due to immigration limitations. \n\nFudan University\nPeking University\nShanghai Jiaotong University\nSun Yat-sen University\nTsinghua University\nTongji University\nUniversity of International Business and Economics (UIBE)
URL:https://clicstudyinchina.com/program/university-of-alberta-exchange-partners-2/
CATEGORIES:University of Victoria
END:VEVENT
END:VCALENDAR