BEGIN:VCALENDAR
VERSION:2.0
PRODID:-//CLIC - ECPv6.15.20//NONSGML v1.0//EN
CALSCALE:GREGORIAN
METHOD:PUBLISH
X-WR-CALNAME:CLIC
X-ORIGINAL-URL:https://clicstudyinchina.com
X-WR-CALDESC:Events for CLIC
REFRESH-INTERVAL;VALUE=DURATION:PT1H
X-Robots-Tag:noindex
X-PUBLISHED-TTL:PT1H
BEGIN:VTIMEZONE
TZID:UTC
BEGIN:STANDARD
TZOFFSETFROM:+0000
TZOFFSETTO:+0000
TZNAME:UTC
DTSTART:20190101T000000
END:STANDARD
END:VTIMEZONE
BEGIN:VTIMEZONE
TZID:America/Edmonton
BEGIN:DAYLIGHT
TZOFFSETFROM:-0700
TZOFFSETTO:-0600
TZNAME:MDT
DTSTART:20180311T090000
END:DAYLIGHT
BEGIN:STANDARD
TZOFFSETFROM:-0600
TZOFFSETTO:-0700
TZNAME:MST
DTSTART:20181104T080000
END:STANDARD
BEGIN:DAYLIGHT
TZOFFSETFROM:-0700
TZOFFSETTO:-0600
TZNAME:MDT
DTSTART:20190310T090000
END:DAYLIGHT
BEGIN:STANDARD
TZOFFSETFROM:-0600
TZOFFSETTO:-0700
TZNAME:MST
DTSTART:20191103T080000
END:STANDARD
BEGIN:DAYLIGHT
TZOFFSETFROM:-0700
TZOFFSETTO:-0600
TZNAME:MDT
DTSTART:20200308T090000
END:DAYLIGHT
BEGIN:STANDARD
TZOFFSETFROM:-0600
TZOFFSETTO:-0700
TZNAME:MST
DTSTART:20201101T080000
END:STANDARD
BEGIN:DAYLIGHT
TZOFFSETFROM:-0700
TZOFFSETTO:-0600
TZNAME:MDT
DTSTART:20210314T090000
END:DAYLIGHT
BEGIN:STANDARD
TZOFFSETFROM:-0600
TZOFFSETTO:-0700
TZNAME:MST
DTSTART:20211107T080000
END:STANDARD
END:VTIMEZONE
BEGIN:VEVENT
DTSTART;VALUE=DATE:20240722
DTEND;VALUE=DATE:20240805
DTSTAMP:20260422T163519
CREATED:20180423T220738Z
LAST-MODIFIED:20240411T205056Z
UID:13736-1721606400-1722815999@clicstudyinchina.com
SUMMARY:Entrepreneurship and Innovation
DESCRIPTION:NOTE: Current dates are approximate. Check back in January for exact dates. \nFast-track your business acumen and make a compelling statement on your resume. The “Entrepreneurship in China” International Summer School program may be one of the best investments you make! \nThis four-week intensive program in Hangzhou delivers practical business education and experience as you learn what it takes to be an entrepreneur in China. Come prepared for a multi-faceted learning experience; classroom lectures are enriched by field trips to local companies and immersive cultural experiences including calligraphy and Taiji. \nYour program begins with a profile of the Chinese marketplace. You’ll examine the key players entrepreneurs encounter\, including state and foreign firms\, and the diverse business environments that exist in China. Throughout the program you’ll look at case studies of major Chinese companies such as Alibaba\, Wahaha\, and Xiaomi\, as well as local Hangzhou businesses. \nA session on marketing will cover Chinese consumer behavior\, marketing mix\, internet marketing\, and crowdfunding. The financial and management courses will look at issues critical to startups\, including the cross-cultural challenges that a global start-up must address. Also covered in-depth is China’s intellectual property system and the patenting activities of multinational corporations. \nA key component and advantage of this program is its thorough exploration of China’s unique business culture. Understanding the behaviours and methodology of Chinese business people is critical to conducting business successfully in China. \nChina’s marketplace teaches you how to be adaptable\, collaborative\, and innovative; you’ll find that your studies in this fast-paced country will ultimately give you a distinct advantage in building the career you want! \nFor more information take a look at this brochure\, this video\, or visit their Facebook page. \nProgram Specific Eligibility Requirements\nStudents who have completed one year of study are preferred. \nSee the How to Apply page for general CLIC eligibility criteria. \nApplication Procedure\nApply with your home university to receive your travel grant. \nComplete an application with the China Scholarship Council. \nComplete an online registration form with CLIC: https://clic-horizons.symplicity.com. \nComplete a registration form with Zhejiang University and submit it to internationalsom@zju.edu.cn. \nApplication Deadlines\nTravel grant deadlines vary for Canadian universities. Check with your home university CLIC contact. \nApplication with the China Scholarship Council application and CLIC online registration. Check our How to Apply webpage. \nContact\nSchool of Management\nZhejiang University\, Zijingang Campus\n866 Yuhangtang Road\nHangzhou\, China 310058\n+86 571 8820 6402\, +86-571-88206402 (fax)\ninternationalsom@zju.edu.cn \nDiscipline: Management Science \nMajor: Business Administration \nIf this program is not available at your university\, contact your home university CLIC liaison and see if they can add it!
URL:https://clicstudyinchina.com/program/entrepreneurship/
LOCATION:Zhejiang University\, Hangzhou
CATEGORIES:Dalhousie University,University of Alberta,University of Calgary
END:VEVENT
BEGIN:VEVENT
DTSTART;VALUE=DATE:20240629
DTEND;VALUE=DATE:20240725
DTSTAMP:20260422T163519
CREATED:20180423T215806Z
LAST-MODIFIED:20240403T163837Z
UID:13733-1719619200-1721865599@clicstudyinchina.com
SUMMARY:Intensive Language Program
DESCRIPTION:NOTE: Current dates are approximate. Check back in January for exact dates. \nMandarin is the world’s most widely-spoken language. With China on the rise as a world power\, the ability to speak Mandarin is a tremendous asset and skill that stands out to employers. All it takes is a month in China to open up a world of career possibilities! \nThe Harbin Intensive (HIT) Program is a 4-week language study program that teaches spoken Chinese to absolute beginners. Students coming with the U of A delegation will first be evaluated by HIT faculty and then assigned to language classes appropriate for their level. You’ll be joined by non-native learners at roughly the same level from all over the world! \nYour learning is accelerated as you find yourself immersed in Chinese culture and daily life. HIT incorporates a mix of written homework\, dictation exercises\, field trips\, and real-world engagement to make your education comprehensive. All HIT faculty have an M.A. in Teaching Chinese as a Foreign Language (TCFL)\, and U of A faculty are on hand to observe classes and guarantee quality. \nDuring the four weeks of the course\, classes will run from 8 a.m. to noon every weekday; students should also be prepared for another 2-3 hours of homework per day. However\, despite the workload\, there is still plenty of time for having fun! Most students also spend time shopping\, dining out\, clubbing\, and even taking weekend trips as far away as Beijing. \nThe goal of HIT is to equip you with basic fluency in Chinese – placing you on a course to navigate exciting opportunities in education\, business\, and travel. \nProgram Specific Eligibility Requirements\nOpen to students of all Mandarin levels \nSee the How to Apply page for general CLIC eligibility criteria. \nApplication Procedures\nApply with your home university to receive your travel grant. \nComplete an application with the China Scholarship Council. \nComplete an online registration form with CLIC: https://clic-horizons.symplicity.com. \nApplication Deadline\nTravel grant deadlines vary for Canadian universities. Check with your home university CLIC contact. \nApplication with the China Scholarship Council application and CLIC online registration. Check our How to Apply webpage. \nContact\nJing Li\nHarbin IT\n11 Siling Street\,\nHarbin 150001 P.R.China\n+86-451-86412647\nStudyatHIT@hit.edu.cn \nDiscipline: Literature \nMajor: Chinese Language and Culture \nIf this program is not available at your university\, contact your home university CLIC liaison and see if they can add it!
URL:https://clicstudyinchina.com/program/harbin-intensive-language-program/
LOCATION:Harbin Institute of Technology
CATEGORIES:Dalhousie University,University of Calgary
END:VEVENT
BEGIN:VEVENT
DTSTART;VALUE=DATE:20240515
DTEND;VALUE=DATE:20240816
DTSTAMP:20260422T163519
CREATED:20190417T214952Z
LAST-MODIFIED:20231114T201856Z
UID:14898-1715731200-1723766399@clicstudyinchina.com
SUMMARY:University of Montreal Research Experiences
DESCRIPTION:NOTE: Current dates are approximate. Check back in January for exact dates. \nCLIC also includes support for research experiences. See below research experiences for the University of Montreal. For more information\, contact Sarah Gu at sarah.gu@umontreal.ca. \nNote: These research internships are also available for the Fall and Winter semesters. \n\nNankai University (cancelled for Summer 2024)\n\nChemistry\n\n\nShandong University (graduate students only)\n\nChemistry and Chemical Engineering\nEnvironmental Science and Engineering\nMaterial Science and Engineering\n\n\n\nProgram Specific Eligibility Requirements\nEligibility depends on the project you are apply to. Contact Sarah Gu at sarah.gu@umontreal.ca. to find out more. \nSee the How to Apply page for general CLIC eligibility criteria. \nApplication Procedure\nApply to the University of Montreal. \nComplete an application with the China Scholarship Council \nComplete an online registration form with CLIC: https://clic-horizons.symplicity.com \nComplete an application with the Chinese host university \nApplication Deadlines\nInternal nomination and travel grant application deadlines vary for Canadian universities. Check with your home university CLIC contact. \nApplication with the China Scholarship Council application and CLIC online registration. Check our How to Apply webpage.
URL:https://clicstudyinchina.com/program/university-of-montreal-research/
CATEGORIES:University of Montreal
END:VEVENT
BEGIN:VEVENT
DTSTART;VALUE=DATE:20240515
DTEND;VALUE=DATE:20240816
DTSTAMP:20260422T163519
CREATED:20190417T212858Z
LAST-MODIFIED:20230928T224249Z
UID:14894-1715731200-1723766399@clicstudyinchina.com
SUMMARY:University of Calgary Research Experiences
DESCRIPTION:NOTE: Current dates are approximate. Check back in January for exact dates. \nCLIC also includes support for research experiences See below research experiences for the University of Calgary. For more information\, contact Tara Jorgensen at tjorgens@ucalgary.ca. \nNote: These research internships are also available for the Fall and Winter semesters. \n\nHarbin Institute of Technology\n\nMechanical Engineering\n\n\nNankai University\n\nChemistry\n\n\nShandong University\n\nChemistry and Chemical Engineering\nCivil Engineering\nElectrical Engineering\nEnvironmental Science and Engineering\nMaterial Science and Engineering\nMechanical Engineering\n\n\n\nProgram Specific Eligibility Requirements\nEligibility depends on the discipline you are apply to. Contact Tara Jorgensen at tjorgens@ucalgary.ca to find out more. \nSee the How to Apply page for general CLIC eligibility criteria. \nApplication Procedure\nApply to the University of Calgary. \nComplete an application with the China Scholarship Council. \nComplete an online registration form with CLIC: https://clic-horizons.symplicity.com. \nComplete an application with the host university. \nApplication Deadlines\nInternal nomination and travel grant application deadlines vary for Canadian universities. Check with your home university CLIC contact. \nApplication with the China Scholarship Council application and CLIC online registration. Check our How to Apply webpage.
URL:https://clicstudyinchina.com/program/university-of-calgary-research/
CATEGORIES:University of Calgary
END:VEVENT
BEGIN:VEVENT
DTSTART;VALUE=DATE:20200901
DTEND;VALUE=DATE:20210716
DTSTAMP:20260422T163519
CREATED:20180901T060059Z
LAST-MODIFIED:20191128T212657Z
UID:13918-1598918400-1626393599@clicstudyinchina.com
SUMMARY:University of Saskatchewan Exchange Programs
DESCRIPTION:CLIC also includes support for Fall\, Winter\, and Full Year exchange programs. See below exchange partners for the University of Saskatchewan. For more information\, contact Chantal Hanson at chantal.hanson@usask.ca. \n\nBeijing Normal University\nBeijing Institute of Technology\nHuazhong Agricultural University\nPeking University
URL:https://clicstudyinchina.com/program/university-of-saskatchewan-exchange-programs/
CATEGORIES:University of Saskatchewan
END:VEVENT
BEGIN:VEVENT
DTSTART;VALUE=DATE:20200629
DTEND;VALUE=DATE:20200725
DTSTAMP:20260422T163519
CREATED:20191204T181209Z
LAST-MODIFIED:20200220T194510Z
UID:15188-1593388800-1595635199@clicstudyinchina.com
SUMMARY:Nankai Summer Program
DESCRIPTION:This program has two sessions. \nJune 29-July 10\, 2020        Language and Culture I (in Chinese and English) \nTo appreciate the beauty of language and culture from different angles\, namely Mandarin\, Ancient Chinese philosophy\, history\, culture\, custom\, tradition\, mythology\, traditional arts\, Chinese cuisines\, traditional costumes\, architecture\, furniture\, antique\, tourism and so on \nJuly 13-July 24\, 2020          The Belt and Road Initiative and China’s Development (in English) \nTo comprehensively understand the essence of the Silk Road and share experiences\, it will be introduced and discussed around policy\, culture\, society\, geography\, travel\, infrastructure\, trade\, e-business\, logistics\, finance and people \n  \nProgram Specific Eligibility Requirements\nSee How to Apply page for general CLIC eligibility requirements. \nApplication Procedure\nApply with your home university to confirm your option and to receive your travel grant. \nComplete an application with the China Scholarship Council. \nComplete an online registration form with CLIC: https://clic-horizons.symplicity.com. \nApplication Deadline\nOption confirmation and travel grant deadlines vary for Canadian universities. Check with your home university CLIC contact. \nNoon March 4\, 2020 (MST): Application with China Scholarship Council and CLIC online registration. \nContact\nInternational Student Section\nOffice for International Academic Exchanges\nNankai University\n+86 22 2350 8686\, +86 22 2350 9646 (fax)\nstudyinnankai@nankai.edu.cn \nDiscipline: Literature \nMajor: Chinese Language and Literature
URL:https://clicstudyinchina.com/program/nankai-summer-language-program/
LOCATION:Nankai University\, Tianjin
CATEGORIES:University of Alberta
END:VEVENT
BEGIN:VEVENT
DTSTART;VALUE=DATE:20200627
DTEND;VALUE=DATE:20200727
DTSTAMP:20260422T163519
CREATED:20190108T230656Z
LAST-MODIFIED:20200131T211952Z
UID:14677-1593216000-1595807999@clicstudyinchina.com
SUMMARY:Anthropological Field Methods
DESCRIPTION:The benefits of cultural immersion are invaluable when studying anthropology: it’s an unparalleled way to experience the principles of your field first-hand. Nankai University’s Social Anthropology summer program will introduce you to field research methods while offering a rich and rewarding experience in China. \nThis 4-week course is an introduction to the basic techniques and skills of collecting field data in cultural anthropology. Topics include the history of anthropological research methods\, proposal writing\, preparations for fieldwork\, ethnographic research techniques\, and the ethics of fieldwork. The research skills developed through this program are applicable to many fields; students will come out with keen ability to observe human behaviour and identify social problems – and have the tools to document them. \nStudents will also have the chance to combine their classroom studies with various cultural activities offered as part of the program. You’ll explore the exciting seaport city of Tianjin\, from its ancient Ming and Qing dynasty buildings to the modern Tianjin Eye bridge. These encounters with a new culture and language will help you build an informed perspective on anthropology. \nNote: This program has a minimum number of students to run. If the minimum is not reached\, then the program will be cancelled. The CLIC office will inform students as soon as it knows if the program has enough students to run. If the program is cancelled\, students will be given the option to choose to participate in another CLIC summer program. \nProgram Specific Eligibility Requirements\nUndergraduate students\, preference will be given to students in the field of sociology\, anthropology\, and ethnology. \nSee How to Apply page for general CLIC eligibility requirements. \nApplication Procedure\nApply with your home university to receive your travel grant. \nComplete an application with the China Scholarship Council. \nComplete an online registration form with CLIC: https://clic-horizons.symplicity.com. \nApply with the host university by filling out an application form and emailing it to studyinnankai@nankai.edu.cn . \nApplication Deadline\nTravel grant deadlines vary for Canadian universities. Check with your home university CLIC contact. \nNoon March 4\, 2020 (MST): Application with China Scholarship Council and CLIC online registration \nMidnight March 6\, 2020 (MST):  Registration with Nankai University \nContact\nInternational Student Section\nOffice for International Academic Exchanges\nNankai University\n+86 22 2350 8686\, +86 22 2350 9646 (fax)\nstudyinnankai@nankai.edu.cn \nDiscipline: History \nMajor: Ethnology \nNote: This program has a minimum participation requirement and may be cancelled if not enough students apply. The CLIC office will inform you as soon as possible if the program is cancelled. \nIf this program is not available at your university\, contact your home university CLIC liaison and see if they can add it!
URL:https://clicstudyinchina.com/program/anthropology-methods/
LOCATION:Nankai University\, Tianjin
CATEGORIES:Université Laval,University of British Columbia,University of Calgary,University of Montreal,University of Ottawa,University of Saskatchewan
END:VEVENT
BEGIN:VEVENT
DTSTART;VALUE=DATE:20200627
DTEND;VALUE=DATE:20200727
DTSTAMP:20260422T163519
CREATED:20180424T003812Z
LAST-MODIFIED:20200131T211906Z
UID:13753-1593216000-1595807999@clicstudyinchina.com
SUMMARY:Nankai Economics Program
DESCRIPTION:This program consists of two courses:\nDoing Business in China \nMore than ever\, those who understand Chinese policies\, practices\, and customs have a major advantage in the world market. “Doing Business in China” is the ultimate how-to for engaging the world’s second largest economy. \nSince entering the world market in 1978\, the nation has worked toward globalization and trade cooperation. Foreign trade has become one of China’s most dynamic and fastest-growing sectors\, placing China among the world’s most influential players. The first half of this program provides an overview of China’s foreign trade reforms\, including the nation’s entry into the WTO and the economic restructuring that came as a result. The second half of the program will introduce you to the practical aspects of doing business in China\, where you’ll learn theß specific laws\, procedures\, and customs around doing business and setting up a firm. \nChina’s foreign trade development has strengthened the nation’s ties with the rest of the world\, especially Canada. You’ll find that a background in China’s business culture will boost your career prospects at home and abroad! \nBelt and Road: China’s Economic Development \nAll eyes are on China as the country grows in economic power at an unparalleled pace. Hosted in Tianjin\, this program is designed for international students to learn about China’s economic development since 1978. \nThe program begins with focus on China’s Belt and Road Initiative\, the government’s open market strategy. You’ll review the purpose of the initiative as well as the controversy that comes with it; while it’s a welcome push for economic diplomacy\, the initiative faces challenges over long-term sustainability\, trade imbalance\, and property rights. You will also look at China’s trade activities in a global context\, examining how aging and population influence the country’s competitive advantage\, and how RMB exchange rates impact the World Trade Organization and its members. \nThroughout this program you’ll discover how economics have influenced China’s history\, culture\, politics\, and identity. Students leave well-equipped to pursue specialized studies in China or further education in economics and foreign trade. \nProgram Specific Eligibility Requirements\nRecommended for 3rd or 4th year students. \nSee How to Apply page for general CLIC eligibility requirements. \nApplication Procedure\nApply with your Canadian home university to receive your travel grant. \nComplete an application with the China Scholarship Council. \nComplete an online registration form with CLIC: https://clic-horizons.symplicity.com. \nApply with the host university by filling out an application form and emailing it to studyinnankai@nankai.edu.cn . \nApplication Deadline\nTravel grant deadlines vary for Canadian universities. Check with your home university CLIC contact. \nNoon March 4\, 2020 (MST): Application with China Scholarship Council and CLIC online registration \nMidnight March 6\, 2020 (MST): Registration with Nankai University \nContact\nInternational Student Section\nOffice for International Academic Exchanges\nNankai University\n+86 22 2350 8686\, +86 22 2350 9646 (fax)\nstudyinnankai@nankai.edu.cn \nDiscipline: Economics \nMajor: China Economics \nIf this program is not available at your university\, contact your home university CLIC liaison and see if they can add it!
URL:https://clicstudyinchina.com/program/nankai-economic-programs/
LOCATION:Nankai University\, Tianjin
CATEGORIES:Dalhousie University,University of Alberta,University of Ottawa,University of Saskatchewan
END:VEVENT
BEGIN:VEVENT
DTSTART;VALUE=DATE:20200506
DTEND;VALUE=DATE:20200606
DTSTAMP:20260422T163519
CREATED:20180906T174013Z
LAST-MODIFIED:20200131T211353Z
UID:13997-1588723200-1591401599@clicstudyinchina.com
SUMMARY:Summer Law
DESCRIPTION:China is undoubtedly one of the most influential countries in the world. Heir to a long legal tradition\, China continues to reform its laws\, legal system\, and institutions\, including the judiciary\, to meet the demands posed by the World Trade Organization. If you are pursuing a legal career and have an interest in international business law\, it’s crucial to understand the main elements of the Chinese legal system. \nThe summer program in law is organized by University of Montréal’s Faculty of Law in collaboration with the China University of Political Science and Law. The program was established in 2002\, and is intended to meet the needs of Quebec\, Canadian\, and international lawyers who are interested in China. You’ll receive basic training in the Chinese judicial system as well as participate in a cultural tourism component that allows you to experience China first hand. \nA one-month internship (2-4 positions available) at the Guangdong International Business Law Firm will be available at the end of the summer program. This internship will not be for credit\, though it will provide invaluable work experience and insight into real-world Chinese legal practices. \nNote: This program includes costs that exceed the expenses covered by CLIC. Students must pay about $1750. \nProgram Specific Eligibility Requirements\nOpen to students from all CLIC member universities who are enrolled in a bachelor’s degree program in law that have completed at least 30 credits of their degree at the time of enrollment in this program. \nSee the How to Apply page for general CLIC eligibility criteria. \nApplication Procedure\nApply to the University of Montreal. For more information\, please check https://droit.umontreal.ca/en/international/summer-school/international-summer-programs/ (choose summer school in Beijing) \nApply to your home university to receive your travel grant. \nComplete an application with the China Scholarship Council. \nComplete an online registration form with CLIC: https://clic-horizons.symplicity.com. \nApplication Deadlines\nJan. 24\, 2020 – University of Montreal \nTravel grant deadlines vary for Canadian universities. Check with your home university CLIC contact. \nNoon March 4\, 2020 (MST) – Application with China Scholarship Council and the CLIC online registration. \nContact\nQiuju Ding \nRoom A533\, Academic Building\, Faculty of International Law\, CUPL \nNo. 25 Xitu Cheng Road Haidian District\, Beijing\, 100088 \n+86 010 58908198 \nvera335@163.com \nDiscipline: Law \nMajor: Comparative Law \n  \nIf this program is not available at your university\, contact your home university CLIC liaison and see if they can add it!
URL:https://clicstudyinchina.com/program/summer-law/
LOCATION:China University of Political Science and Law\, Beijing
CATEGORIES:University of Alberta,University of Montreal,University of Ottawa,University of Saskatchewan
END:VEVENT
BEGIN:VEVENT
DTSTART;VALUE=DATE:20190901
DTEND;VALUE=DATE:20200501
DTSTAMP:20260422T163519
CREATED:20180906T202545Z
LAST-MODIFIED:20230928T224909Z
UID:14022-1567296000-1588291199@clicstudyinchina.com
SUMMARY:Master of Finance
DESCRIPTION:If you study finance\, understanding the world’s fastest growing economy is a tremendous asset. Consider Queen’s Master of Finance\, a year-long program that takes place at Renmin University in Beijing. With classes taking place on weekends and some evenings\, students can opt to continue working while they earn their degree – and enjoy the sights and culture of China as well. \nRenmin University is one of China’s premiere business schools and has produced many prominent figures in the country’s reform and development. Students will study at the Hanqing Advanced Institute of Economics and Finance\, known for its innovative approach to education. Ten world-class professors\, five from Renmin and five from Queen’s\, provide insight into current financial trends and practices in both Canada and China. Classes will also focus on business communication skills. In addition to the 10 courses\, students can attend workshops and seminars delivered by financial professionals for an enhanced learning experience. \nThis program is taught in English. However\, the advanced curriculum is now offered in both English and Mandarin. You can also join optional preparation classes for the CFA Level 1 and 2 exams. Students may also attend an additional course back in Canada at Queen’s University. \nBeyond the curriculum\, the Queen’s Master of Finance inducts alumni into a valuable industry network. Both Universities provide career resources and ongoing opportunities to build contacts. Graduates have found that their connection to Queen’s has helped them long after they begun working in finance. Take advantage of this prestigious and flexible program to give your career a cutting edge! \nFor more information\, see here: https://smith.queensu.ca/grad_studies/mfin_beijing/index.php \nApplication Procedure\nApply with your home university to receive your travel grant. \nComplete an application with the China Scholarship Council. \nApplication Deadline\nInternal nomination and travel grant application deadlines vary for Canadian universities. Check with your home university CLIC contact. \nApplication with the China Scholarship Council application and CLIC online registration. Check our How to Apply webpage. \n 
URL:https://clicstudyinchina.com/program/master-of-finance/
LOCATION:Renmin University of China\, Bejing
CATEGORIES:Queen's University
END:VEVENT
END:VCALENDAR